BEGIN:VCALENDAR
VERSION:2.0
PRODID:-//AudioTheme 2.1.1
BEGIN:VEVENT
UID:urn:uuid:745901a7-859b-4fbe-9340-7958ff069fa3
URL:http://lauraschmid.de/shows/studieninformationstag/
DTSTART;TZID=GMT:20190223T090000
SUMMARY:Studieninformationstag
DESCRIPTION:Einblicke ins Hochschulstudium
LOCATION:Hochschule für Musik Nürnberg\, Veilhofstrasse 34-40\, Nürnberg\, \, Deutschland\, 90489
END:VEVENT
END:VCALENDAR
