BEGIN:VCALENDAR
VERSION:2.0
PRODID:-//AudioTheme 2.1.1
BEGIN:VEVENT
UID:urn:uuid:0bd41f1e-e089-47e7-b2d0-b612b25e8f4c
URL:http://lauraschmid.de/shows/schweizer-forum-fuer-junge-kammermusikcamp-2019/
DTSTART;TZID=GMT:20191101T130000
SUMMARY:Schweizer Forum für Junge Kammermusikcamp 2019
DESCRIPTION:Talentförderung Schweizer Musikschulen
LOCATION:Musikschule Konservatorium Bern\, Kramgasse 36\, Bern\, \, Schweiz\, 3011
END:VEVENT
END:VCALENDAR
