BEGIN:VCALENDAR
VERSION:2.0
PRODID:-//AudioTheme 2.1.1
BEGIN:VEVENT
UID:urn:uuid:42c7a7ec-c2b1-4446-9846-5c65f5e9aa80
URL:http://lauraschmid.de/shows/musikalische-meditation/
DTSTART;TZID=GMT:20231209T121500
SUMMARY:Musikalische Meditation
DESCRIPTION:Eine kleine Auszeit vom vorweihnachtlichen Stress
LOCATION:Franziskanerkirche\, 1 6000 Franziskanerplatz\, Luzern\, \, Schweiz
END:VEVENT
END:VCALENDAR
