BEGIN:VCALENDAR
VERSION:2.0
PRODID:-//AudioTheme 2.1.1
BEGIN:VEVENT
UID:urn:uuid:c09cf5e6-a28f-4b3a-a8e5-883d76c912c0
URL:http://lauraschmid.de/shows/meisterkurs-blockfloete-und-alte-musik-2/
DTSTART;VALUE=DATE:20190805
SUMMARY:Meisterkurs Blockflöte und Alte Musik
DESCRIPTION:Wunderschöne Musikkurswoche für Jung & Alt in den Schweizer Bergen
LOCATION:Waldhotel National Arosa\, Prätschlistrasse 38\, Arosa\, \, Schweiz\, 7050
END:VEVENT
END:VCALENDAR
