BEGIN:VCALENDAR
VERSION:2.0
PRODID:-//AudioTheme 2.1.1
BEGIN:VEVENT
UID:urn:uuid:c8b27d06-91af-4784-b0e5-dd1b9bb3f0bd
URL:http://lauraschmid.de/shows/italian-summer-night/
DTSTART;TZID=GMT:20190615T180000
SUMMARY:Italian Summer Night
DESCRIPTION:Sommerkonzert in Vitznau
LOCATION:Ref. Markuskirche Vitznau\, 2b\, Vitznau\, \, Schweiz\, 6354
END:VEVENT
END:VCALENDAR
