BEGIN:VCALENDAR
VERSION:2.0
PRODID:-//AudioTheme 2.1.1
BEGIN:VEVENT
UID:urn:uuid:211f6545-2af8-4b8c-9a03-2dc6949e5a21
URL:http://lauraschmid.de/shows/gig-872/
DTSTART;TZID=GMT:20190811T173000
SUMMARY:5 Recorders
DESCRIPTION:Nieder-Mooser-Konzertsommer
LOCATION:Evangelische Kirche Nieder-Moos\, Mittelgasse 5\, Freiensteinau/Nieder-Moos\, \, Deutschland\, 36399
END:VEVENT
END:VCALENDAR
