BEGIN:VCALENDAR
VERSION:2.0
PRODID:-//AudioTheme 2.1.1
BEGIN:VEVENT
UID:urn:uuid:a74b32ca-a76c-494d-b4d1-c9b693cbdd77
URL:http://lauraschmid.de/shows/davos-festival-young-artists-in-concert/
DTSTART;TZID=GMT:20190803T183000
SUMMARY:Davos Festival Young Artists in Concert
DESCRIPTION:Telemann - Hefti
LOCATION:Hotel Schweizerhof\, Promenade 50\, Davos\, \, Schweiz\, 7270
END:VEVENT
END:VCALENDAR
