BEGIN:VCALENDAR
VERSION:2.0
PRODID:-//AudioTheme 2.1.1
BEGIN:VEVENT
UID:urn:uuid:8e133322-d3ff-4d85-946d-864a3014e4f6
URL:http://lauraschmid.de/shows/davos-festival-young-artists-in-concert-2/
DTSTART;TZID=GMT:20190804T110000
SUMMARY:Davos Festival Young Artists in Concert
DESCRIPTION:Konzertspaziergang
LOCATION:Englische Kirche Davos\, Scalettastrasse 1\, Davos Platz\, \, Schweiz\, 7270
END:VEVENT
END:VCALENDAR
