BEGIN:VCALENDAR
VERSION:2.0
PRODID:-//AudioTheme 2.1.1
BEGIN:VEVENT
UID:urn:uuid:e68f8807-cdb2-4adc-91d9-bb8004506cdf
URL:http://lauraschmid.de/shows/5-recorders/
DTSTART;TZID=GMT:20190813T180000
SUMMARY:5 Recorders
DESCRIPTION:Mainzer Musiksommer
LOCATION:Seminarkirche Mainz\, Augustinerstraße 34\, Mainz\, \, Deutschland\, 55116
END:VEVENT
END:VCALENDAR
