BEGIN:VCALENDAR
VERSION:2.0
PRODID:-//AudioTheme 2.1.1
BEGIN:VEVENT
UID:urn:uuid:2aa57d92-77e8-44b7-a87e-4233f2bc53d1
URL:http://lauraschmid.de/shows/2023-10-14/
DTSTART;TZID=GMT:20231014T160000
SUMMARY:Grand Tour Baroque
DESCRIPTION:Operia seria und Concerto grosso-ganz privat
LOCATION:Sattler KunsstoffWerk\, Carl-Zeiss-Straße 5\, Mühlheim am Main\, \, 63165
END:VEVENT
END:VCALENDAR
