BEGIN:VCALENDAR
VERSION:2.0
PRODID:-//AudioTheme 2.1.1
BEGIN:VEVENT
UID:urn:uuid:2af2b7ac-02eb-40ce-b7f2-6c7b22b3533a
URL:http://lauraschmid.de/shows/2019-03-15/
DTSTART;TZID=GMT:20190315T180000
SUMMARY:Gala-Konzert
DESCRIPTION:d'istinto
LOCATION:Kirche St. Cyriak\, Hauptstr. 74\, Sulzburg\, \, Deutschland\, 79295
END:VEVENT
END:VCALENDAR
